BEGIN:VCALENDAR
VERSION:2.0
PRODID:-//eventon.com NONSGML v1.0//EN
CALSCALE:GREGORIAN
METHOD:PUBLISH
BEGIN:VEVENT
UID:69e939322b38b
DTSTAMP:20260422T211010Z
DTSTART:20230219T150000Z
DTEND:20230219T190000Z
LOCATION:
SUMMARY:KARNEVAL FOR SMÅ OG STORE
DESCRIPTION:KARNEVAL FOR SMÅ OG STORE på Langfjord samfunnshus SØNDAG de
 n 19. februar kl. 1600 &#8211; sjølvaste fastelavn-søndagen. Dagen for bo
 ller\,  boller\,  boller &#8211; ballonger og pynt\,  kostymer og farger og
  fjas! Leker\,  musikk og moro samfunnshuset rundt! Gratis inngang og grati
 s alt fordi vi får støtte til k a r[..]\nhttps://kvaenangen.com/events/ka
 rneval-for-sma-og-store/
URL:https://kvaenangen.com/events/karneval-for-sma-og-store/
END:VEVENT
END:VCALENDAR