BEGIN:VCALENDAR
VERSION:2.0
PRODID:-//eventon.com NONSGML v1.0//EN
CALSCALE:GREGORIAN
METHOD:PUBLISH
BEGIN:VEVENT
UID:69ea5c18b4c0e
DTSTAMP:20260423T175120Z
DTSTART:20230211T110000Z
DTEND:20230211T140000Z
LOCATION:Langfjord Handel Skinnelvveien 56
SUMMARY:SOLFEST
DESCRIPTION:Vi inviterer til koselig SOLFEST ved Langfjord Handel lørdag 1
 1. FEBRUAR kl 12:00. Ønsker ALLE hjertelig velkommen! Arrangører: Langfjo
 rd Handel og Langfjordbotn Sanitetsforening\nhttps://kvaenangen.com/events/
 solfest/
URL:https://kvaenangen.com/events/solfest/
END:VEVENT
END:VCALENDAR