BEGIN:VCALENDAR
VERSION:2.0
PRODID:-//eventon.com NONSGML v1.0//EN
CALSCALE:GREGORIAN
METHOD:PUBLISH
BEGIN:VEVENT
UID:69ea5b49a0d80
DTSTAMP:20260423T174753Z
DTSTART:20230324T160000Z
DTEND:20230324T225000Z
LOCATION:Langfjord Samfunnhus Tappeluftveien 16\,  Langfjordbotn\,  Norway
SUMMARY:Forfatter Laila Lanes forteller om boka si og arbeidet bak
DESCRIPTION:Boka heter &laquo;To prosent norsk&raquo; og forfatter er journ
 alist Laila Lanes. Kom og møt henne på Langfjord samfunnshus hvor hun hol
 der foredrag om arbeidet bak boka og om sin reise inn i familiens kvenske h
 istorie. Det var en historie ingen snakket om. Hun forteller bl.a. om sitt 
 forsøk på å[..]\nhttps://kvaenangen.com/events/forfatter-laila-lanes-for
 teller-om-boka-si-og-arbeidet-bak/
URL:https://kvaenangen.com/events/forfatter-laila-lanes-forteller-om-boka-si-og-arbeidet-bak/
END:VEVENT
END:VCALENDAR