BEGIN:VCALENDAR
VERSION:2.0
PRODID:-//eventon.com NONSGML v1.0//EN
CALSCALE:GREGORIAN
METHOD:PUBLISH
BEGIN:VEVENT
UID:69e8e6131aa6e
DTSTAMP:20260422T151531Z
DTSTART:20230720T180000Z
DTEND:20230720T210000Z
LOCATION:Burfjord sentrum På baksiden av Flerbrukshuset. Mellom Strandveien og Fv364
SUMMARY:Musikk gjennom tidene 1950-2020
DESCRIPTION:Janarnes Jukebox spiller fra hitlistene i England\,  America og
  Norge med litt informasjon om artistene og låtenes plasseringer. Festival
 området i Burfjord sentrum.\nhttps://kvaenangen.com/events/musikk-gjennom-
 tidene-1950-2020/
URL:https://kvaenangen.com/events/musikk-gjennom-tidene-1950-2020/
END:VEVENT
END:VCALENDAR