BEGIN:VCALENDAR
VERSION:2.0
PRODID:-//eventon.com NONSGML v1.0//EN
CALSCALE:GREGORIAN
METHOD:PUBLISH
BEGIN:VEVENT
UID:69e90e7b092aa
DTSTAMP:20260422T180755Z
DTSTART:20230718T180000Z
DTEND:20230718T215000Z
LOCATION:Flrebrukshuset i Kvænangen 9161
SUMMARY:PANELDEBATT KOMMUNEVALGET 2023
DESCRIPTION:Valgdebatt mellom representanter fra partiene som stiller til k
 ommunevalg i Kvænangen Leder/ordstyrer av debatten vil være Merete Jørst
 adDet legges opp til ca. 45 minutter styrt debatt\,  før det åpnes for sp
 ørsmål fra salen i ca. 20minutter.Aktuelle temaer for debatten:Sentralise
 ringVindkraftSamarbeid med andre kommuneEldreomsorgBruk av private tjeneste
 rBarn og ungeDemografiBoligpolitikkHelsehus Arrangør: Verddefestivalen\nht
 tps://kvaenangen.com/events/paneldebatt-kommunevalget-2023/
URL:https://kvaenangen.com/events/paneldebatt-kommunevalget-2023/
END:VEVENT
END:VCALENDAR